BEGIN:VCALENDAR
VERSION:2.0
PRODID:-//Segel-Club-Pilsensee e.V.//NONSGML Events//EN
CALSCALE:GREGORIAN
X-WR-CALNAME:Segel-Club-Pilsensee e.V. - Events
X-ORIGINAL-URL:https://www.pilsensee.de/events/event/
X-WR-CALDESC:Segel-Club-Pilsensee e.V. - Events
BEGIN:VEVENT
UID:20170202T2001Z-1486065672.6743-EO-2086-1@93.104.203.144
STATUS:CONFIRMED
DTSTAMP:20260424T111324Z
CREATED:20190110T193905Z
LAST-MODIFIED:20260118T103029Z
DTSTART;TZID=Europe/Berlin:20260614T090000
DTEND;TZID=Europe/Berlin:20260614T160000
RDATE;TZID=Europe/Berlin:20230625T090000,20230702T090000,20230716T090000,20240630T090000,20240707T090000,20240721T090000,20250629T090000,20250706T090000,20250713T090000,20260628T090000,20260712T090000,20260719T090000
SUMMARY: Opti- und Laserliga
DESCRIPTION: Die Opti- und Laserliga ist eine Regattaserie für junge Segler
  ohne Regattaerfahrung. Weiterlesen
X-ALT-DESC;FMTTYPE=text/html: <p>Die Opti- und Laserliga ist eine Regattase
 rie für junge Segler ohne Regattaerfahrung. Die Serie umfasst vier Wettfahr
 ttage bei vier verschiedenen Segelclubs an drei Seen des Fünfseenlandes:</p
 ><table><tbody><tr><td>Sonntag\, 14. Juni</td><td><strong>Wörthsee</strong>
 </td><td><strong>SVW</strong></td></tr><tr><td>Sonntag\, 28.Juni</td><td><s
 trong>Pilsensee</strong></td><td><strong>SCP</strong></td></tr><tr><td>Sonn
 tag\, 12. Juli</td><td><strong>Ammersee</strong></td><td><strong>SCIA</stro
 ng></td></tr><tr><td>Sonntag\, 19. Juli</td><td><table><tbody><tr><td><stro
 ng>Ammersee</strong></td><td></td></tr></tbody></table></td><td><strong>HSC
 </strong></td></tr></tbody></table><p>Optiliga-Regatten sind in erster Lini
 e Trainingsveranstaltungen in Regattaform\, bei der die Segler von den Trai
 nern auf dem Wasser angeleitet werden. Dies ist bei den regulären Regatten 
 nicht erlaubt. Die Trainer werden hauptsächlich von den jeweils veranstalte
 nden Vereinen gestellt. Diese Vereine stellen aber sicher\, dass auswärtige
  Trainer auf den Motorbooten des Veranstalters mitfahren können\, sofern Si
 e nicht ein Motorboot Ihres eigenen Vereins nutzen können.</p><p>Teilnahmeb
 erechtigt sind alle Segler die\,</p><ul><li>einem Segelclub am Ammersee\, W
 örthsee oder Pilsensee angehören</li><li>Opti- oder Laser-Beginner sind\, a
 ber bereits kreuzen und halsen können und über die wichtigsten Vorfahrtsreg
 eln Bescheid wissen</li><li>das Regattasegeln lernen und üben wollen.</li><
 /ul><p>Segler\, die schon sechs oder mehr Aufstiegspunkte ersegelt haben od
 er bereits zwei mal an der Optiliga-Serie teilgenommen haben\, gelten nicht
  mehr als Beginner und sind daher nicht mehr startberechtigt. Damit möchten
  wir vermeiden\, dass kleine Profis den Anfängern davonsegeln damit den Spa
 ß verderben.</p><p>LASER-Segler\, die bereits zweimal an der Laserliga teil
 genommen haben oder schon bei Laserregatten Erfahrungen gesammelt haben\, s
 ind deshalb ebenfalls nicht mehr startberechtigt.</p><p>Die Ausschreibung z
 ur Opti-/Laserliga können Sie hier herunterladen. Das PDF enthält:</p><ul><
 li>Terminliste mit Adressen der Veranstaltungsorte und Ansprechpartnern</li
 ><li>Meldeformular mit Checkliste für die Sicherheistprüfung Ihres Opti</li
 ><li>Bankverbindung für die Startgebühr (40 Euro)</li></ul><p>Zusätzlich is
 t auch noch die Nachmeldung direkt am Veranstaltungsort bis eine Stunde vor
  Startbereitschaft möglich. Das Meldegeld für alle vier Veranstaltungen bet
 rägt 40 Euro. Ein Mittagessen pro Veranstaltung ist darin enthalten. Der Ge
 samtbetrag ist auch fällig\, wenn nur einzelne Termine wahrgenommen werden.
 </p><p> </p><p>Ansprechpartner für Rückfragen zur Optiliga ist unser Jugend
 wart Christoph v. Essen (<a href="mailto:jugend@pilsensee.de">jugend@pilsen
 see.de</a>)</p><p> </p>
CATEGORIES:Extern,Jugend
LOCATION:SCP Segelclub Pilsensee e.V.
GEO:48.030912;11.196791
ORGANIZER;CN="Daniel Treplin":MAILTO:daniel@treplin.de
URL;VALUE=URI:https://www.pilsensee.de/events/event/opti-und-laserliga/
END:VEVENT
BEGIN:VEVENT
UID:20180107T1311Z-1515330682.0058-EO-2566-1@93.104.203.144
STATUS:CONFIRMED
DTSTAMP:20260424T111324Z
CREATED:20180107T130151Z
LAST-MODIFIED:20260118T104422Z
DTSTART;TZID=Europe/Berlin:20260426T100000
DTEND;TZID=Europe/Berlin:20260426T170000
RDATE;TZID=Europe/Berlin:20230709T100000,20231015T100000,20230618T100000,20230917T100000,20230521T100000,20240505T100000,20240609T100000,20240707T100000,20240915T100000,20241013T100000,20250525T100000,20250629T100000,20250720T100000,20250921T100000,20251005T100000,20260517T100000,20260614T100000,20260705T100000,20260719T100000,20260920T100000,20261004T100000
SUMMARY: SCP Jugendtraining
DESCRIPTION: Eingeladen sind alle Kinder und Jugendliche des SCP. Wir train
 ieren in allen Bootsklassen
X-ALT-DESC;FMTTYPE=text/html: <p>Eingeladen sind alle Kinder und Jugendlich
 e des SCP.</p><p>Wir trainieren in allen Bootsklassen</p>
CATEGORIES:Jugend
LOCATION:SCP Segelclub Pilsensee e.V.
GEO:48.030912;11.196791
ORGANIZER;CN="Christoph von Essen":MAILTO:christoph.essen@gmail.com
URL;VALUE=URI:https://www.pilsensee.de/events/event/scp-jugentreffen/
ATTACH;FMTTYPE=image/jpeg:https://www.pilsensee.de/wp-content/uploads/2023/08/PXL_20230801_082505968-scaled.jpg
END:VEVENT
BEGIN:VEVENT
UID:20230205T1144Z-1675597479.8745-EO-8591-1@93.104.203.72
STATUS:CONFIRMED
DTSTAMP:20260424T111324Z
CREATED:20230205T105359Z
LAST-MODIFIED:20240218T101312Z
DTSTART;TZID=Europe/Berlin:20240317T110000
DTEND;TZID=Europe/Berlin:20240317T150000
SUMMARY: Vorsaison – Jugend Treffen
DESCRIPTION: Zu Beginn der neuen Saison wollen wir (eure Trainer) mit euch:
  – besprechen was wir in diesem Jahr vorhaben – Bilder – Videos anschauen –
  ratschen usw. Bitte Weiterlesen
X-ALT-DESC;FMTTYPE=text/html: <p>Zu Beginn der neuen Saison wollen wir (eur
 e Trainer) mit euch:</p><p>- besprechen was wir in diesem Jahr vorhaben<br 
 />- Bilder - Videos anschauen<br />- ratschen usw.</p><p>Bitte kommte alle\
 , damit wir uns für die Trainings abstimmen können</p>
CATEGORIES:Jugend,SCP
LOCATION:SCP Segelclub Pilsensee e.V.
GEO:48.030912;11.196791
ORGANIZER;CN="Christoph von Essen":MAILTO:christoph.essen@gmail.com
URL;VALUE=URI:https://www.pilsensee.de/events/event/vorsaison-jugend-treffe
 n/
END:VEVENT
BEGIN:VEVENT
UID:20240218T1106Z-1708254396.1425-EO-9349-1@93.104.203.218
STATUS:CONFIRMED
DTSTAMP:20260424T111324Z
CREATED:20240218T105743Z
LAST-MODIFIED:20241108T125225Z
DTSTART;TZID=Europe/Berlin:20241117T140000
DTEND;TZID=Europe/Berlin:20241117T190000
SUMMARY: Jugend Jahresabschlusstreffen
DESCRIPTION: Jahresabschluss Jugend Weiterlesen
X-ALT-DESC;FMTTYPE=text/html: <p>Wir wollen gemeinsam die Saison ausklingen
  lassen\,</p><p>ratschen feiern usw.</p>
CATEGORIES:Jugend,SCP
LOCATION:SCP Segelclub Pilsensee e.V.
GEO:48.030912;11.196791
ORGANIZER;CN="Stefan Eder":MAILTO:vorstand@pilsensee.de
URL;VALUE=URI:https://www.pilsensee.de/events/event/jugend-jahresabschlusst
 reffen/
END:VEVENT
BEGIN:VEVENT
UID:20250216T0936Z-1739698588.824-EO-9816-1@93.104.203.218
STATUS:CONFIRMED
DTSTAMP:20260424T111324Z
CREATED:20250216T084329Z
LAST-MODIFIED:20250216T084806Z
DTSTART;TZID=Europe/Berlin:20250518T090000
DTEND;TZID=Europe/Berlin:20250518T170000
SUMMARY: 29er & RS Feva Ammersee Cup 2025 ASC
DESCRIPTION: Der Augsburger Seglerverein lädt alle 29 und RS Feva Segler zu
  einer Regatta ein
X-ALT-DESC;FMTTYPE=text/html: <p>Der Augsburger Seglerverein lädt alle 29 u
 nd RS Feva Segler zu einer Regatta ein</p>
CATEGORIES:Extern,Jugend
LOCATION:Augsburger Segelclub e.V.
GEO:48.017230;11.094970
ORGANIZER;CN="Christoph von Essen":MAILTO:christoph.essen@gmail.com
URL;VALUE=URI:https://www.pilsensee.de/events/event/29er-rs-feva-ammersee-c
 up-2025-asc/
END:VEVENT
BEGIN:VEVENT
UID:20250430T0816Z-1746000975.7063-EO-9835-1@93.104.203.218
STATUS:CONFIRMED
DTSTAMP:20260424T111324Z
CREATED:20250430T073522Z
LAST-MODIFIED:20250430T073522Z
DTSTART;TZID=Europe/Berlin:20250627T150000
DTEND;TZID=Europe/Berlin:20250629T170000
SUMMARY: OptiClassics Trainingswochenende
DESCRIPTION: Der Verein OptiClassics  möchte mit historischen\, wunderbaren
  alten Holzoptis (echte OLDTIMER) bei uns ein Wochenend-Training anbieten. 
 Für Kids zwischen 7-10 Jahre. Es gibt nur 8 Plätze und kostet Weiterlesen
X-ALT-DESC;FMTTYPE=text/html: <p>Der Verein <strong>OptiClassics </strong> 
 möchte mit historischen\, wunderbaren alten Holzoptis (echte OLDTIMER) bei 
 uns ein <strong>Wochenend-Training</strong> anbieten. Für Kids zwischen 7-1
 0 Jahre. Es gibt nur 8 Plätze und kostet 60€ inkl. Mittagessen.  Trainer is
 t Michael Timmermann\, ein TOP-Profi in der Segelausbildung mit langer Erfa
 hrung! Diese Veranstaltung ist ein echter "Segel-Booster" und richtet sich 
 besonders an Kinder der Umgebung\, die einen Einstieg in den Segelsport suc
 hen.</p><p><strong>HINWEIS:  Zelten am Gelände des SCP für die teilnehmende
  Kids inkl. Elternteil ist möglich !!!</strong></p><p>Anmeldung unter <a hr
 ef="mailto:jugend@pilsensee.de">jugend@pilsensee.de</a></p>
CATEGORIES:Jugend
LOCATION:SCP Segelclub Pilsensee e.V.
GEO:48.030912;11.196791
ORGANIZER;CN="Christoph von Essen":MAILTO:christoph.essen@gmail.com
URL;VALUE=URI:https://www.pilsensee.de/events/event/opticlassics-trainingsw
 ochenende/
ATTACH;FMTTYPE=image/jpeg:https://www.pilsensee.de/wp-content/uploads/2025/04/312_dsc_5608-1-scaled.jpg
END:VEVENT
BEGIN:VEVENT
UID:20221202T2036Z-1670013418.1418-EO-8512-1@93.104.203.72
STATUS:CONFIRMED
DTSTAMP:20260424T111324Z
CREATED:20250127T152408Z
LAST-MODIFIED:20251218T084919Z
DTSTART;TZID=Europe/Berlin:20260131T140000
DTEND;TZID=Europe/Berlin:20260131T200000
SUMMARY: SCP Neujahrsfeier 2026
DESCRIPTION: Neujahrsgrillen Weiterlesen
X-ALT-DESC;FMTTYPE=text/html: <p>Am Samstag\, den 31.1.2026 ab 14 Uhr möcht
 en wir bei einem großen Lagerfeuer zusammen Punsch oder Glühwein trinken\, 
 eine leckere Bratwurst oder Grillkäse in der Semmel essen und das Jahr 2026
  willkommen heißen.</p><p>Packt Euch also warm ein und bringt gute Laune mi
 t. Um die Mengen an Getränken und Essen besser kalkulieren zu können\, wird
  um Anmeldung gebeten.</p><p><strong>Wir wünschen allen\, die sich angemeld
 et haben einen unterhaltsamen Nachmittag und freuen uns auf euch.<br /></st
 rong></p><p>Euer SCP Vorstand\,</p><p>Stefan\, Nico\, Petra\, Martin\, Mich
 ael\, Daniel\, Simon\, Christian und Christoph</p><p>[wpforms id="9761"]</p
 >
CATEGORIES:Jugend,SCP
LOCATION:SCP Segelclub Pilsensee e.V.
GEO:48.030912;11.196791
ORGANIZER;CN="Stefan Eder":MAILTO:vorstand@pilsensee.de
URL;VALUE=URI:https://www.pilsensee.de/events/event/scp-neujahrsfeier/
ATTACH;FMTTYPE=image/jpeg:https://www.pilsensee.de/wp-content/uploads/2024/01/WhatsApp-Bild-2024-01-28-um-20.38.11_562f44e3.jpg
END:VEVENT
BEGIN:VEVENT
UID:20170202T2001Z-1486065672.6881-EO-2083-1@93.104.203.144
STATUS:CONFIRMED
DTSTAMP:20260424T111324Z
CREATED:20190101T083052Z
LAST-MODIFIED:20260118T104504Z
DTSTART;TZID=Europe/Berlin:20260419T100000
DTEND;TZID=Europe/Berlin:20260419T170000
SUMMARY: Jugendboote Auslagern
DESCRIPTION: Die Jugendboote müssen aus dem Keller geräumt werden Für unser
 e Jugendlichen: Die Optis\, die 420er und die Laser müssen ausgelagert und 
 für die Saison hergerichtet werden An diesem Weiterlesen
X-ALT-DESC;FMTTYPE=text/html: <p>Die Jugendboote müssen aus dem Keller gerä
 umt werden</p><p>Für unsere Jugendlichen:<br />Die Optis\, die 420er und di
 e Laser müssen ausgelagert und für die Saison hergerichtet werden</p><p>An 
 diesem Tag sind ausschließlich die Trainer\, alle Jugendlichen und ggf. der
 en Eltern vor Ort</p><p><strong>Aus Sicherheitsgründen ist kein anderer auf
  dem Gelände zugelassen und schon gar nicht das Befahren des Geländes mit K
 FZ</strong></p>
CATEGORIES:Jugend
LOCATION:SCP Segelclub Pilsensee e.V.
GEO:48.030912;11.196791
ORGANIZER;CN="Christoph von Essen":MAILTO:christoph.essen@gmail.com
URL;VALUE=URI:https://www.pilsensee.de/events/event/boote-auslagern-arbeits
 dienst-gelaende/
END:VEVENT
BEGIN:VEVENT
UID:20180107T1536Z-1515339373.5504-EO-2568-1@93.104.203.144
STATUS:CONFIRMED
DTSTAMP:20260424T111324Z
CREATED:20180107T151945Z
LAST-MODIFIED:20260118T104638Z
DTSTART;TZID=Europe/Berlin:20260620T093000
DTEND;TZID=Europe/Berlin:20260620T133000
SUMMARY: Arbeitsdienst Optiliga
DESCRIPTION: Zur Vorbereitung der Optiliga brauchen wir dringend Helfer Wei
 terlesen
X-ALT-DESC;FMTTYPE=text/html: <p>Für die Restarbeiten von Optiliga  müssen 
 wir noch ein paar Dinge erledigen</p>
CATEGORIES:Arbeitsdienst,Jugend,SCP
ORGANIZER;CN="Daniel Treplin":MAILTO:daniel@treplin.de
URL;VALUE=URI:https://www.pilsensee.de/events/event/arbeitsdienst-11/
END:VEVENT
BEGIN:VEVENT
UID:20260223T1014Z-1771841684.2302-EO-10319-1@93.104.203.218
STATUS:CONFIRMED
DTSTAMP:20260424T111324Z
CREATED:20260223T100336Z
LAST-MODIFIED:20260223T101647Z
DTSTART;TZID=Europe/Berlin:20260705T140000
DTEND;TZID=Europe/Berlin:20260705T170000
SUMMARY: Rettungsübung – Schwimmwesten Benutzung – Kenterübung
DESCRIPTION: Im Rahmen unserer SBF Ausbildung wollen wir heute eine Rettung
 sübung durchführen. Natürlich sind alle übrigen Mitglieder hier ebenfalls g
 ern gesehen. Zusammen mit aktiven Ausbildern der Wasserwacht werden: – Weit
 erlesen
X-ALT-DESC;FMTTYPE=text/html: <p>Im Rahmen unserer SBF Ausbildung wollen wi
 r heute eine Rettungsübung durchführen. Natürlich sind alle übrigen Mitglie
 der hier ebenfalls gern gesehen.</p><p>Zusammen mit aktiven Ausbildern der 
 Wasserwacht werden:</p><p>- die verschiedenen Arten von Schwimmwesten kenne
 nlernen und testen<br />- Lernen wie man eine Person im Wasser sichert und 
 ans Boot oder Ufer bringt<br />- Gezeigt bekommen\, wie man diese Person au
 ch aus dem Wasser rausbringt</p><p>Anschließend werden wir ein Boot kentern
  und unter Anleitung wieder aufrichten.</p><p>Bitte Kleidung mitbringen\, m
 it der Ihr ins Wasser gehen könnt - die Rettungsübung wird mit normaler Kle
 idung ausgeführt. Badekleidung für die Kenterübung</p>
CATEGORIES:Regatta,Schein,SCP
LOCATION:SCP Segelclub Pilsensee e.V.
GEO:48.030912;11.196791
ORGANIZER;CN="Stefan Eder":MAILTO:vorstand@pilsensee.de
URL;VALUE=URI:https://www.pilsensee.de/events/event/rettungsuebung-schwimmw
 esten-benutzung-kenteruebung/
END:VEVENT
BEGIN:VEVENT
UID:20260118T1104Z-1768734242.5214-EO-10271-1@93.104.203.218
STATUS:CONFIRMED
DTSTAMP:20260424T111324Z
CREATED:20260118T104808Z
LAST-MODIFIED:20260118T104808Z
DTSTART;TZID=Europe/Berlin:20260711T100000
DTEND;TZID=Europe/Berlin:20260711T160000
SUMMARY: Inklusionssegeln –
DESCRIPTION: Wir wollen in diesem Jahr wieder ein Inklusionssegeln veransta
 lten. Hierzu brauchen wir die Mithilfe der Jugend und der „Dickschiff-Eigne
 r“
X-ALT-DESC;FMTTYPE=text/html: <p>Wir wollen in diesem Jahr wieder ein Inklu
 sionssegeln veranstalten.</p><p>Hierzu brauchen wir die Mithilfe der Jugend
  und der "Dickschiff-Eigner"</p>
CATEGORIES:Jugend,SCP
ORGANIZER;CN="Stefan Eder":MAILTO:vorstand@pilsensee.de
URL;VALUE=URI:https://www.pilsensee.de/events/event/inklusionssegeln/
END:VEVENT
BEGIN:VEVENT
UID:20210511T0853Z-1620723208.0749-EO-6068-1@93.104.203.72
STATUS:CONFIRMED
DTSTAMP:20260424T111324Z
CREATED:20210511T085202Z
LAST-MODIFIED:20260118T105024Z
DTSTART;TZID=Europe/Berlin:20260803T090000
DTEND;TZID=Europe/Berlin:20260805T170000
SUMMARY: Jugend-Segel-Camp 2026
DESCRIPTION:   Wie jedes Jahr wollen wir auch 2026 ein 3-tägiges Jugend-Seg
 el-Camp veranstalten. Bei hoffentlich gutem Wetter und vor allem gutem Wind
  wollen wir viel Segeln\, aber auch gemeinsam Weiterlesen
X-ALT-DESC;FMTTYPE=text/html: <p> </p><p>Wie jedes Jahr wollen wir auch 202
 6 ein 3-tägiges <strong>Jugend-Segel-Camp</strong> veranstalten. Bei hoffen
 tlich gutem Wetter und vor allem gutem Wind wollen wir viel Segeln\, aber a
 uch gemeinsam viel Spaß haben\, beim Baden\, Grillen\, Lagerfeuer machen\, 
 Nachtfahrt\, ...</p><p>Mehr Details zum <strong>Ablauf</strong> und der Anm
 eldung finden Sie demächst hier:<strong> Jugend-Segel-Camp-2026-Infos-Anmel
 dung.pdf</strong></p><p><strong>Wichtiger Hinweis: </strong><strong>Das Jug
 end-Segel-Camp richtet sich an die SCP Jugend. Die teilnehmenden Kinder und
  Jugendlichen müssen Mitglied im SCP sein.</strong></p><p><a href="mailto:j
 ugend@pilsensee.de">jugend@pilsensee.de</a></p>
CATEGORIES:Jugend,SCP
LOCATION:SCP Segelclub Pilsensee e.V.
GEO:48.030912;11.196791
ORGANIZER;CN="Christoph von Essen":MAILTO:christoph.essen@gmail.com
URL;VALUE=URI:https://www.pilsensee.de/events/event/jugend-camp/
ATTACH;FMTTYPE=image/jpeg:https://www.pilsensee.de/wp-content/uploads/2022/08/IMG_8698-scaled.jpg
END:VEVENT
BEGIN:VEVENT
UID:20240218T1051Z-1708253479.0711-EO-9347-1@93.104.203.218
STATUS:CONFIRMED
DTSTAMP:20260424T111324Z
CREATED:20240218T104448Z
LAST-MODIFIED:20260118T105155Z
DTSTART;TZID=Europe/Berlin:20260804T190000
DTEND;TZID=Europe/Berlin:20260804T230000
SUMMARY: Nachtfahrt
DESCRIPTION: Im Rahmen des Jugendcampes wurden bereits in den letzten Jahre
 n immer wieder eine Nachtfahrt durchgeführt. Wir wollen alle einladen hier 
 mit Schiff\, Beleuchtung\, Knabbereien\, Wein\, Spass ….. daran Weiterlesen
X-ALT-DESC;FMTTYPE=text/html: <p>Im Rahmen des Jugendcampes wurden bereits 
 in den letzten Jahren immer wieder eine Nachtfahrt durchgeführt.</p><p>Wir 
 wollen alle einladen hier mit Schiff\, Beleuchtung\, Knabbereien\, Wein\, S
 pass ..... daran teilzunehmen</p>
CATEGORIES:Jugend,SCP
ORGANIZER;CN="Stefan Eder":MAILTO:vorstand@pilsensee.de
URL;VALUE=URI:https://www.pilsensee.de/events/event/nachtfahrt/
ATTACH;FMTTYPE=image/jpeg:https://www.pilsensee.de/wp-content/uploads/2023/08/signal-2023-08-08-114949_015.jpeg
END:VEVENT
BEGIN:VEVENT
UID:20211107T1111Z-1636283514.4002-EO-7842-1@93.104.203.72
STATUS:CONFIRMED
DTSTAMP:20260424T111324Z
CREATED:20211107T110142Z
LAST-MODIFIED:20260118T110649Z
DTSTART;TZID=Europe/Berlin:20260905T140000
DTEND;TZID=Europe/Berlin:20260905T230000
SUMMARY: SCP Sommerfest
DESCRIPTION: Wir wollen in diesem nochmal versuchen ein Sommerfest hin zu b
 ekommen. Um die notwendige Anzahl an Gästen zu haben\, wird diese Veranstal
 tung zeitgliech mit der Ixylon Regatta durchgeführt.
X-ALT-DESC;FMTTYPE=text/html: <p>Wir wollen in diesem nochmal versuchen ein
  Sommerfest hin zu bekommen.</p><p>Um die notwendige Anzahl an Gästen zu ha
 ben\, wird diese Veranstaltung zeitgliech mit der Ixylon Regatta durchgefüh
 rt.</p>
CATEGORIES:Jugend,SCP
LOCATION:SCP Segelclub Pilsensee e.V.
GEO:48.030912;11.196791
ORGANIZER;CN="Stefan Eder":MAILTO:vorstand@pilsensee.de
URL;VALUE=URI:https://www.pilsensee.de/events/event/sommerfest/
ATTACH;FMTTYPE=image/jpeg:https://www.pilsensee.de/wp-content/uploads/2018/07/IMG_2234.jpg
END:VEVENT
BEGIN:VEVENT
UID:20210620T2002Z-1624219374.9852-EO-6582-1@93.104.203.72
STATUS:CONFIRMED
DTSTAMP:20260424T111324Z
CREATED:20210620T184037Z
LAST-MODIFIED:20260118T105104Z
DTSTART;TZID=Europe/Berlin:20261018T100000
DTEND;TZID=Europe/Berlin:20261018T170000
SUMMARY: SCP Jugend Boote einlagern – Saisonabschluss
DESCRIPTION: Heute müssen unsere Jugend Boote leider wieder eingelagert wer
 den.   Für unsere Jugendlichen: Die Optis\, die 420er und die Laser müssen 
 ausgelagert und für die Saison hergerichtet werden Weiterlesen
X-ALT-DESC;FMTTYPE=text/html: <p>Heute müssen unsere Jugend Boote leider wi
 eder eingelagert werden.</p><p> </p><p>Für unsere Jugendlichen:<br />Die Op
 tis\, die 420er und die Laser müssen ausgelagert und für die Saison hergeri
 chtet werden</p><p>An diesem Tag sind ausschließlich die Trainer\, alle Jug
 endlichen und ggf. deren Eltern vor Ort</p><p><strong>Aus Sicherheitsgründe
 n ist kein anderer auf dem Gelände zugelassen und schon gar nicht das Befah
 ren des Geländes mit KFZ</strong></p>
CATEGORIES:Jugend
LOCATION:SCP Segelclub Pilsensee e.V.
GEO:48.030912;11.196791
ORGANIZER;CN="Christoph von Essen":MAILTO:christoph.essen@gmail.com
URL;VALUE=URI:https://www.pilsensee.de/events/event/scp-jugend-training-3/
END:VEVENT
BEGIN:VEVENT
UID:20170205T1138Z-1486294718.912-EO-2113-1@93.104.203.144
STATUS:CONFIRMED
DTSTAMP:20260424T111324Z
CREATED:20170205T112734Z
LAST-MODIFIED:20260118T111348Z
DTSTART;TZID=Europe/Berlin:20261018T110000
DTEND;TZID=Europe/Berlin:20261018T170000
SUMMARY: Absegeln
DESCRIPTION: Regattatag mit bis zu drei Wettfahrten Weiterlesen
X-ALT-DESC;FMTTYPE=text/html: <table><tbody><tr><td>Anmeldung:</td><td>Ab 1
 0:30Uhr beim Wettfahrtleiter</td></tr><tr><td>Ankündiungssignal 1.WF</td><t
 d>11:00 Uhr</td></tr><tr><td>Wettfahrten:</td><td align="right">4</td></tr>
 <tr><td>Wertung:</td><td>Yardstick unter Einbeziehung der SCP Yardsticklist
 e</td></tr><tr><td>Steuermannsbesprechung:</td><td>30 min vor dem 1. Start<
 /td></tr><tr><td>Wettfahrtleiter:</td><td>Wird bei der Steuermannsbesprechu
 ng bekanntgegeben</td></tr></tbody></table><p>Ab fünf teilnehmenden Booten 
 (Erwachsene) bzw drei Booten (Jugendteam) erfolgt eine Wertung des jeweilig
 en Laufes für die jeweilige Abteilung der Vereinsmeisterschaft. Die Regatta
  unterliegt den Regeln\, wie sie in den "Wettfahrtregeln Segeln" festgelegt
  sind.</p><p>Gastboote sind willkommen können gerne mitsegeln. Voraussetzun
 g sind Haftpflichtversicherung und Befähigungsnachweis. Um telefonische Anm
 eldung wird gebeten.</p><p>Unsere Jugendlichen segeln mit Trainerunterstütz
 ung in der Regatta mit bzw. machen wir parallel unser Training - Anschließe
 nd "Manöverkritik"</p>
CATEGORIES:Jugend,Regatta,SCP
LOCATION:SCP Segelclub Pilsensee e.V.
GEO:48.030912;11.196791
ORGANIZER;CN="Daniel Treplin":MAILTO:daniel@treplin.de
URL;VALUE=URI:https://www.pilsensee.de/events/event/scp-absegeln/
ATTACH;FMTTYPE=image/jpeg:https://www.pilsensee.de/wp-content/uploads/2020/05/IMG-20170507-WA0011.jpg
END:VEVENT
BEGIN:VTIMEZONE
TZID:Europe/Berlin
BEGIN:STANDARD
TZOFFSETFROM:+0200
TZOFFSETTO:+0100
DTSTART:20231029T010000
TZNAME:CET
END:STANDARD
BEGIN:DAYLIGHT
TZOFFSETFROM:+0100
TZOFFSETTO:+0200
DTSTART:20240331T010000
TZNAME:CEST
END:DAYLIGHT
BEGIN:STANDARD
TZOFFSETFROM:+0200
TZOFFSETTO:+0100
DTSTART:20241027T010000
TZNAME:CET
END:STANDARD
BEGIN:DAYLIGHT
TZOFFSETFROM:+0100
TZOFFSETTO:+0200
DTSTART:20250330T010000
TZNAME:CEST
END:DAYLIGHT
BEGIN:STANDARD
TZOFFSETFROM:+0200
TZOFFSETTO:+0100
DTSTART:20251026T010000
TZNAME:CET
END:STANDARD
BEGIN:DAYLIGHT
TZOFFSETFROM:+0100
TZOFFSETTO:+0200
DTSTART:20260329T010000
TZNAME:CEST
END:DAYLIGHT
END:VTIMEZONE
END:VCALENDAR
